BEGIN:VCALENDAR
VERSION:2.0
PRODID:-//Santa Cruz Beekeepers Guild - ECPv6.15.20//NONSGML v1.0//EN
CALSCALE:GREGORIAN
METHOD:PUBLISH
X-WR-CALNAME:Santa Cruz Beekeepers Guild
X-ORIGINAL-URL:https://santacruzbees.com
X-WR-CALDESC:Events for Santa Cruz Beekeepers Guild
REFRESH-INTERVAL;VALUE=DURATION:PT1H
X-Robots-Tag:noindex
X-PUBLISHED-TTL:PT1H
BEGIN:VTIMEZONE
TZID:America/Los_Angeles
BEGIN:DAYLIGHT
TZOFFSETFROM:-0800
TZOFFSETTO:-0700
TZNAME:PDT
DTSTART:20250309T100000
END:DAYLIGHT
BEGIN:STANDARD
TZOFFSETFROM:-0700
TZOFFSETTO:-0800
TZNAME:PST
DTSTART:20251102T090000
END:STANDARD
BEGIN:DAYLIGHT
TZOFFSETFROM:-0800
TZOFFSETTO:-0700
TZNAME:PDT
DTSTART:20260308T100000
END:DAYLIGHT
BEGIN:STANDARD
TZOFFSETFROM:-0700
TZOFFSETTO:-0800
TZNAME:PST
DTSTART:20261101T090000
END:STANDARD
BEGIN:DAYLIGHT
TZOFFSETFROM:-0800
TZOFFSETTO:-0700
TZNAME:PDT
DTSTART:20270314T100000
END:DAYLIGHT
BEGIN:STANDARD
TZOFFSETFROM:-0700
TZOFFSETTO:-0800
TZNAME:PST
DTSTART:20271107T090000
END:STANDARD
END:VTIMEZONE
BEGIN:VEVENT
DTSTART;TZID=America/Los_Angeles:20260506T190000
DTEND;TZID=America/Los_Angeles:20260506T210000
DTSTAMP:20260422T053314
CREATED:20260408T021457Z
LAST-MODIFIED:20260408T021704Z
UID:1840-1778094000-1778101200@santacruzbees.com
SUMMARY:Summer Ready: Setting Goals\, Working Splits\, and Staying Ahead of the Bees
DESCRIPTION:Spring is winding down and summer is just around the corner — which means your bees are thinking about one thing: expansion. Are you ready to keep up with them? \n\n\n\nThis month\, we’re welcoming guest speaker Karla\, who will help us shift our beekeeping mindset from survival mode to strategy. As colonies hit their peak\, the decisions you make right now will shape your whole season. Whether you’re chasing a honey harvest\, looking to grow your apiary through splits\, or just trying to keep your hives healthy and calm\, Karla will walk us through how to think it all through. \n\n\n\nShe’ll cover: \n\n\n\n\nHow to re-evaluate your beekeeping goals heading into summer — and why it matters to have a plan\n\n\n\nThe honey-or-splits question: how to decide what your hive (and you) actually need\n\n\n\nGetting ahead of Varroa before mite loads climb and your options shrink\n\n\n\nCheckerboarding as a swarm management and honey production tool\n\n\n\nHow to read your frames to know exactly what’s going on inside the hive\n\n\n\n\nWhether you’re heading into your first summer or your fifteenth\, there’s something here for every beekeeper.  \n\n\n\n\n\n\n\n\n\n\n\n\n\n\n\n\n\n\n\nParking Instructions \n\n\n\nParking inside El Rio Mobile Home Park is prohibited. \n\n\n\n\nMetered street parking is available.\n\n\n\nUse the Lenz Arts lot\, but avoid the ivy wall/gate with “no parking” signs for after-hours staff access.\n\n\n\n\n\n\n\n\nVolunteer-Run\, Community-Funded\, No Dues Required | Your Donations Keep Us Buzzing
URL:https://santacruzbees.com/event/summer-ready-setting-goals-working-splits-and-staying-ahead-of-the-bees/
LOCATION:El Rio Mobile Home Park\, 2120 N. Pacific Ave\, Santa Cruz\, California
END:VEVENT
END:VCALENDAR